BEGIN:VCALENDAR
VERSION:2.0
PRODID:-//SOULMATE  CONSULTING - ECPv6.15.20//NONSGML v1.0//EN
CALSCALE:GREGORIAN
METHOD:PUBLISH
X-WR-CALNAME:SOULMATE  CONSULTING
X-ORIGINAL-URL:https://soulmate.academy
X-WR-CALDESC:Evenementen voor SOULMATE  CONSULTING
REFRESH-INTERVAL;VALUE=DURATION:PT1H
X-Robots-Tag:noindex
X-PUBLISHED-TTL:PT1H
BEGIN:VTIMEZONE
TZID:Europe/Amsterdam
BEGIN:DAYLIGHT
TZOFFSETFROM:+0100
TZOFFSETTO:+0200
TZNAME:CEST
DTSTART:20250330T010000
END:DAYLIGHT
BEGIN:STANDARD
TZOFFSETFROM:+0200
TZOFFSETTO:+0100
TZNAME:CET
DTSTART:20251026T010000
END:STANDARD
BEGIN:DAYLIGHT
TZOFFSETFROM:+0100
TZOFFSETTO:+0200
TZNAME:CEST
DTSTART:20260329T010000
END:DAYLIGHT
BEGIN:STANDARD
TZOFFSETFROM:+0200
TZOFFSETTO:+0100
TZNAME:CET
DTSTART:20261025T010000
END:STANDARD
BEGIN:DAYLIGHT
TZOFFSETFROM:+0100
TZOFFSETTO:+0200
TZNAME:CEST
DTSTART:20270328T010000
END:DAYLIGHT
BEGIN:STANDARD
TZOFFSETFROM:+0200
TZOFFSETTO:+0100
TZNAME:CET
DTSTART:20271031T010000
END:STANDARD
END:VTIMEZONE
BEGIN:VEVENT
DTSTART;TZID=Europe/Amsterdam:20260315T110000
DTEND;TZID=Europe/Amsterdam:20260315T170000
DTSTAMP:20260423T215818
CREATED:20260114T203404Z
LAST-MODIFIED:20260220T124551Z
UID:443-1773572400-1773594000@soulmate.academy
SUMMARY:GEANNULEERD: Spirituele beurs Horeca Jansheeren - Heemskerk
DESCRIPTION:LET OP DEZE BEURS IS GEANNULEERD! \nOp deze beurs zijn ervaren paragnosten en mediums aanwezig om al uw vragen te beantwoorden. \nDeze vragen kunnen van zeer uiteenlopende aard zijn.\nDe spirituele deskundigen kunnen door hun jarenlange routine vragen over toekomst\, familie\, liefde\, en veel meer geraadpleegd worden. \nEr zijn onder ander deelnemers die kaarten leggen\, contact met overledenen opnemen (ook met dieren)\, Trance Medium\, Helderziende en Horende\, Waterlezen\, Psychometrie\, Bijenwastekeningen maken\, Aura healer\, Magnetiseurs\, Tenenlezeres\, Egyptische waarzeggen\, Handlezen en Numerologie\, Sjamanen\, Reiki en Holistische massage\, Iriscopie\, Naamanalyse\, Tarotleggen\, Het Kennisboek\, Energetische Balans\, Gem Stone en mineraalsieraden en nog veel meer \nHet is mogelijk om tijdens deze beurs te lunchen of een heerlijke cappuccino te nemen in de lounge van het gebouw.\nOpeningstijden: 11.00 t/m 17.00 Entree: 5 Euro (kinderen t/m 12 jaar gratis)\nEr zijn diverse parkeermogelijkheden rondom het gebouw
URL:https://soulmate.academy/evenement/spirituele-beurs/
LOCATION:Zalencentrum Jansheeren\, Maltezerplein 1\, Heemskerk\, 1961 JC\, Nederland
CATEGORIES:Beurs
ATTACH;FMTTYPE=image/jpeg:https://soulmate.academy/wp-content/uploads/2026/01/soulmate-Programma-2026-scaled.jpg
ORGANIZER;CN="Soulmate Consulting":MAILTO:info@soulmate.academy
END:VEVENT
END:VCALENDAR