BEGIN:VCALENDAR
VERSION:2.0
PRODID:-//SOULMATE  CONSULTING - ECPv6.15.20//NONSGML v1.0//EN
CALSCALE:GREGORIAN
METHOD:PUBLISH
X-ORIGINAL-URL:https://soulmate.academy
X-WR-CALDESC:Evenementen voor SOULMATE  CONSULTING
REFRESH-INTERVAL;VALUE=DURATION:PT1H
X-Robots-Tag:noindex
X-PUBLISHED-TTL:PT1H
BEGIN:VTIMEZONE
TZID:Europe/Amsterdam
BEGIN:DAYLIGHT
TZOFFSETFROM:+0100
TZOFFSETTO:+0200
TZNAME:CEST
DTSTART:20240331T010000
END:DAYLIGHT
BEGIN:STANDARD
TZOFFSETFROM:+0200
TZOFFSETTO:+0100
TZNAME:CET
DTSTART:20241027T010000
END:STANDARD
BEGIN:DAYLIGHT
TZOFFSETFROM:+0100
TZOFFSETTO:+0200
TZNAME:CEST
DTSTART:20250330T010000
END:DAYLIGHT
BEGIN:STANDARD
TZOFFSETFROM:+0200
TZOFFSETTO:+0100
TZNAME:CET
DTSTART:20251026T010000
END:STANDARD
BEGIN:DAYLIGHT
TZOFFSETFROM:+0100
TZOFFSETTO:+0200
TZNAME:CEST
DTSTART:20260329T010000
END:DAYLIGHT
BEGIN:STANDARD
TZOFFSETFROM:+0200
TZOFFSETTO:+0100
TZNAME:CET
DTSTART:20261025T010000
END:STANDARD
END:VTIMEZONE
BEGIN:VEVENT
DTSTART;TZID=Europe/Amsterdam:20251122T110000
DTEND;TZID=Europe/Amsterdam:20251122T170000
DTSTAMP:20260424T035930
CREATED:20241027T223039Z
LAST-MODIFIED:20251103T092133Z
UID:410-1763809200-1763830800@soulmate.academy
SUMMARY:Spirituele Beurs Zaandam
DESCRIPTION:Zaterdag 22 november 2025 bij Buurtcentrum de Bovenkruier in Zaandam
URL:https://soulmate.academy/evenement/spirituele-beurs-op-zaterdag-22-november-2025-bij-buurtcentrum-de-bovenkruier-in-zaandam/
LOCATION:De Bovenkruier\, Drielse Wetering 49\, Zaandam\, NH\, 1509KP\, Nederland
CATEGORIES:Beurs
ATTACH;FMTTYPE=image/jpeg:https://soulmate.academy/wp-content/uploads/2024/10/Soulmate-Programma-2025-scaled.jpg
ORGANIZER;CN="Soulmate Consulting":MAILTO:info@soulmate.academy
END:VEVENT
END:VCALENDAR