BEGIN:VCALENDAR
VERSION:2.0
PRODID:-//SOULMATE  CONSULTING - ECPv6.15.20//NONSGML v1.0//EN
CALSCALE:GREGORIAN
METHOD:PUBLISH
X-WR-CALNAME:SOULMATE  CONSULTING
X-ORIGINAL-URL:https://soulmate.academy
X-WR-CALDESC:Evenementen voor SOULMATE  CONSULTING
REFRESH-INTERVAL;VALUE=DURATION:PT1H
X-Robots-Tag:noindex
X-PUBLISHED-TTL:PT1H
BEGIN:VTIMEZONE
TZID:Europe/Amsterdam
BEGIN:DAYLIGHT
TZOFFSETFROM:+0100
TZOFFSETTO:+0200
TZNAME:CEST
DTSTART:20240331T010000
END:DAYLIGHT
BEGIN:STANDARD
TZOFFSETFROM:+0200
TZOFFSETTO:+0100
TZNAME:CET
DTSTART:20241027T010000
END:STANDARD
BEGIN:DAYLIGHT
TZOFFSETFROM:+0100
TZOFFSETTO:+0200
TZNAME:CEST
DTSTART:20250330T010000
END:DAYLIGHT
BEGIN:STANDARD
TZOFFSETFROM:+0200
TZOFFSETTO:+0100
TZNAME:CET
DTSTART:20251026T010000
END:STANDARD
BEGIN:DAYLIGHT
TZOFFSETFROM:+0100
TZOFFSETTO:+0200
TZNAME:CEST
DTSTART:20260329T010000
END:DAYLIGHT
BEGIN:STANDARD
TZOFFSETFROM:+0200
TZOFFSETTO:+0100
TZNAME:CET
DTSTART:20261025T010000
END:STANDARD
END:VTIMEZONE
BEGIN:VEVENT
DTSTART;TZID=Europe/Amsterdam:20250914T110000
DTEND;TZID=Europe/Amsterdam:20250914T170000
DTSTAMP:20260424T160046
CREATED:20241106T200211Z
LAST-MODIFIED:20241106T200316Z
UID:406-1757847600-1757869200@soulmate.academy
SUMMARY:Spirituele Beurs Alkmaar
DESCRIPTION:
URL:https://soulmate.academy/evenement/spirituele-beurs-op-zondag-14-september-2025-bij-wijkcentrum-daalmeer-in-alkmaar/
LOCATION:Wijkcentrum De Daalder\, Johanna Naberstraat 77B\, Alkmaar\, NH\, 1827LB\, Nederland
CATEGORIES:Beurs
ORGANIZER;CN="Soulmate Consulting":MAILTO:info@soulmate.academy
END:VEVENT
BEGIN:VEVENT
DTSTART;TZID=Europe/Amsterdam:20250518T110000
DTEND;TZID=Europe/Amsterdam:20250518T170000
DTSTAMP:20260424T160046
CREATED:20241106T200211Z
LAST-MODIFIED:20241106T200327Z
UID:404-1747566000-1747587600@soulmate.academy
SUMMARY:Spirituele Beurs Zaandam
DESCRIPTION:
URL:https://soulmate.academy/evenement/spirituele-beurs-op-zondag-18-mei-2025-bij-buurtcentrum-de-bovenkruier-in-zaandam/
LOCATION:De Bovenkruier\, Drielse Wetering 49\, Zaandam\, NH\, 1509KP\, Nederland
CATEGORIES:Beurs
ORGANIZER;CN="Soulmate Consulting":MAILTO:info@soulmate.academy
END:VEVENT
END:VCALENDAR